BEGIN:VCALENDAR
VERSION:2.0
PRODID:-//Literacy Volunteers of Central Connecticut - Citizenship Path, School Education and  Employment Help for Non-English Students - ECPv6.15.17//NONSGML v1.0//EN
CALSCALE:GREGORIAN
METHOD:PUBLISH
X-ORIGINAL-URL:https://literacycentral.org
X-WR-CALDESC:Events for Literacy Volunteers of Central Connecticut - Citizenship Path, School Education and  Employment Help for Non-English Students
REFRESH-INTERVAL;VALUE=DURATION:PT1H
X-Robots-Tag:noindex
X-PUBLISHED-TTL:PT1H
BEGIN:VTIMEZONE
TZID:America/New_York
BEGIN:DAYLIGHT
TZOFFSETFROM:-0500
TZOFFSETTO:-0400
TZNAME:EDT
DTSTART:20240310T070000
END:DAYLIGHT
BEGIN:STANDARD
TZOFFSETFROM:-0400
TZOFFSETTO:-0500
TZNAME:EST
DTSTART:20241103T060000
END:STANDARD
BEGIN:DAYLIGHT
TZOFFSETFROM:-0500
TZOFFSETTO:-0400
TZNAME:EDT
DTSTART:20250309T070000
END:DAYLIGHT
BEGIN:STANDARD
TZOFFSETFROM:-0400
TZOFFSETTO:-0500
TZNAME:EST
DTSTART:20251102T060000
END:STANDARD
BEGIN:DAYLIGHT
TZOFFSETFROM:-0500
TZOFFSETTO:-0400
TZNAME:EDT
DTSTART:20260308T070000
END:DAYLIGHT
BEGIN:STANDARD
TZOFFSETFROM:-0400
TZOFFSETTO:-0500
TZNAME:EST
DTSTART:20261101T060000
END:STANDARD
END:VTIMEZONE
BEGIN:VEVENT
DTSTART;TZID=America/New_York:20251105T163000
DTEND;TZID=America/New_York:20251105T193000
DTSTAMP:20260426T002142
CREATED:20251022T172041Z
LAST-MODIFIED:20251022T175849Z
UID:428-1762360200-1762371000@literacycentral.org
SUMMARY:LVCC Open House @ Meriden Public Library
DESCRIPTION:For more information\, contact Joanna Holleck:  email joanna@literacycentral.org or call 860.229.7323.
URL:https://literacycentral.org/event/lvcc-open-house-meriden-public-library/
LOCATION:Meriden Public Library\, 105 Miller Street\, Meriden\, CT\, 06450\, United States
CATEGORIES:Upcoming Events
ATTACH;FMTTYPE=image/jpeg:https://literacycentral.org/wp-content/uploads/2025/10/Open-House-Meriden-11.05.25.jpg
END:VEVENT
END:VCALENDAR